BEGIN:VCALENDAR
VERSION:2.0
PRODID:GlueUp
CALSCALE:GREGORIAN
BEGIN:VTIMEZONE
TZID:UTC
BEGIN:STANDARD
DTSTART:19700101T000000
TZOFFSETFROM:+0000
TZOFFSETTO:+0000
TZNAME:UTC
END:STANDARD
END:VTIMEZONE
BEGIN:VEVENT
TZ:+00
ORGANIZER;CN=AmCham Shanghai:MAILTO:amcham@amcham-shanghai.org
UID:19591-1776964458@https://amcham-shanghai.glueup.cn
DTSTAMP:20260423T171418Z
DTSTART:20190301T003000Z
DTEND:20190301T090000Z
SUMMARY:WeForShe: Driving Change
DESCRIPTION:WeForShe: Driving Change by American Chamber of Commerce in Shanghai\n\nMar 1, 2019 (8:30 AM - 5:00 PM)(GMT+8)\n\nFor more information, click here: https://amcham-shanghai.glueup.cn/my/events/19591
LOCATION:Hyatt on the Bund 上海外滩茂悦大酒店 - 199 Huangpu Road 上海黄浦路199号 Shanghai - China
BEGIN:VALARM
TRIGGER:-PT48H
REPEAT:4
DURATION:PT30M
ACTION:DISPLAY
END:VALARM
END:VEVENT
END:VCALENDAR