BEGIN:VCALENDAR
VERSION:2.0
PRODID:GlueUp
CALSCALE:GREGORIAN
BEGIN:VTIMEZONE
TZID:UTC
BEGIN:STANDARD
DTSTART:19700101T000000
TZOFFSETFROM:+0000
TZOFFSETTO:+0000
TZNAME:UTC
END:STANDARD
END:VTIMEZONE
BEGIN:VEVENT
TZ:+00
ORGANIZER;CN=AmCham Shanghai:MAILTO:amcham@amcham-shanghai.org
UID:26999-1777033397@https://amcham-shanghai.glueup.cn
DTSTAMP:20260424T122317Z
DTSTART:20200609T000000Z
DTEND:20200609T020000Z
SUMMARY:Webinar | The Race to Dominate Next-Generation Automotive Technology
DESCRIPTION:Webinar | The Race to Dominate Next-Generation Automotive Technology by American Chamber of Commerce in Shanghai\n\nJune 9, 2020\n8:00 AM - 10:00 AM(GMT+8)\n\nFor more information and to attend the online event, click here:\n\nEvent Website: https://amcham-shanghai.glueup.cn/my/events/26999\n\nEvent Link: https://us02web.zoom.us/webinar/register/WN_KBmzbbInT8OLfSDdJclHMA
LOCATION:https://us02web.zoom.us/webinar/register/WN_KBmzbbInT8OLfSDdJclHMA
BEGIN:VALARM
TRIGGER:-PT1H
REPEAT:4
DURATION:PT15M
ACTION:DISPLAY
END:VALARM
END:VEVENT
END:VCALENDAR