BEGIN:VCALENDAR
VERSION:2.0
PRODID:GlueUp
CALSCALE:GREGORIAN
BEGIN:VTIMEZONE
TZID:UTC
BEGIN:STANDARD
DTSTART:19700101T000000
TZOFFSETFROM:+0000
TZOFFSETTO:+0000
TZNAME:UTC
END:STANDARD
END:VTIMEZONE
BEGIN:VEVENT
TZ:+00
ORGANIZER;CN=Daniel Rechtschaffen:MAILTO:daniel.rechtschaffen@amcham-shanghai.org
UID:31551-1777134340@https://amcham-shanghai.glueup.cn
DTSTAMP:20260425T162540Z
DTSTART:20210518T003000Z
DTEND:20210518T040000Z
SUMMARY:Training: Forging a Compliance Team for U.S. Export Controls
DESCRIPTION:Training: Forging a Compliance Team for U.S. Export Controls by American Chamber of Commerce in Shanghai\n\nMay 18, 2021 (8:30 AM - 12:00 PM)(GMT+8)\n\nFor more information, click here: https://amcham-shanghai.glueup.cn/my/events/31551
LOCATION:AmCham Shanghai Conference Center (Xintiandi) - 27F - Infinitus Tower -  - No.168 Hubin Road - Huangpu District - 新天地湖滨路168号无限极大厦27楼 Shanghai - China
BEGIN:VALARM
TRIGGER:-PT48H
REPEAT:4
DURATION:PT30M
ACTION:DISPLAY
END:VALARM
END:VEVENT
END:VCALENDAR