BEGIN:VCALENDAR
VERSION:2.0
PRODID:GlueUp
CALSCALE:GREGORIAN
BEGIN:VTIMEZONE
TZID:UTC
BEGIN:STANDARD
DTSTART:19700101T000000
TZOFFSETFROM:+0000
TZOFFSETTO:+0000
TZNAME:UTC
END:STANDARD
END:VTIMEZONE
BEGIN:VEVENT
TZ:+00
ORGANIZER;CN=Ailva Tan:MAILTO:ailva.tan@amcham-shanghai.org
UID:50157-1777077675@https://amcham-shanghai.glueup.cn
DTSTAMP:20260425T004115Z
DTSTART:20260513T100000Z
DTEND:20260513T130000Z
SUMMARY:Suzhou | InterChamber Summer Mixer
DESCRIPTION:Suzhou | InterChamber Summer Mixer by American Chamber of Commerce in Shanghai\n\nMay 13, 2026 (6:00 PM - 9:00 PM)(GMT+8)\n\nFor more information, click here: https://amcham-shanghai.glueup.cn/my/events/50157
LOCATION:Level 2, M Social Hotel Suzhou 苏州千琇悦酒店2层 - Building 4 - Hong Leong City Life Plaza - 788 Zhongyuan Road - Suzhou Industrial Park - Suzhou - Jiangsu - China - 江苏省苏州市苏州工业园区钟园路788号丰隆城市生活广场4幢 Suzhou - Jiangsu - China
BEGIN:VALARM
TRIGGER:-PT48H
REPEAT:4
DURATION:PT30M
ACTION:DISPLAY
END:VALARM
END:VEVENT
END:VCALENDAR