BEGIN:VCALENDAR
VERSION:2.0
PRODID:GlueUp
CALSCALE:GREGORIAN
BEGIN:VTIMEZONE
TZID:UTC
BEGIN:STANDARD
DTSTART:19700101T000000
TZOFFSETFROM:+0000
TZOFFSETTO:+0000
TZNAME:UTC
END:STANDARD
END:VTIMEZONE
BEGIN:VEVENT
TZ:+00
ORGANIZER;CN=Ailva Tan:MAILTO:ailva.tan@amcham-shanghai.org
UID:50259-1777078557@https://amcham-shanghai.glueup.cn
DTSTAMP:20260425T005557Z
DTSTART:20260515T060000Z
DTEND:20260515T073000Z
SUMMARY:Suzhou | From Heart Attack Rescue to Three-highs Management (Chinese Session with English Subtitles)
DESCRIPTION:Suzhou | From Heart Attack Rescue to Three-highs Management (Chinese Session with English Subtitles) by American Chamber of Commerce in Shanghai\n\nMay 15, 2026 (2:00 PM - 3:30 PM)(GMT+8)\n\nFor more information, click here: https://amcham-shanghai.glueup.cn/my/events/50259
LOCATION:上海交通大学医学院附属苏州九龙医院-行政楼 一楼学术报告厅 - 苏州工业园区万盛街118号 Suzhou - Jiangsu - China
BEGIN:VALARM
TRIGGER:-PT48H
REPEAT:4
DURATION:PT30M
ACTION:DISPLAY
END:VALARM
END:VEVENT
END:VCALENDAR