BEGIN:VCALENDAR
VERSION:2.0
PRODID:GlueUp
CALSCALE:GREGORIAN
BEGIN:VTIMEZONE
TZID:UTC
BEGIN:STANDARD
DTSTART:19700101T000000
TZOFFSETFROM:+0000
TZOFFSETTO:+0000
TZNAME:UTC
END:STANDARD
END:VTIMEZONE
BEGIN:VEVENT
TZ:+00
ORGANIZER;CN=Ailva Tan:MAILTO:ailva.tan@amcham-shanghai.org
UID:42911-1776720184@https://amcham-shanghai.glueup.cn
DTSTAMP:20260420T212304Z
DTSTART:20240320T060000Z
DTEND:20240320T083000Z
SUMMARY:Suzhou: China Outlook 2024
DESCRIPTION:Suzhou: China Outlook 2024 by American Chamber of Commerce in Shanghai\n\nMar 20, 2024 (2:00 PM - 4:30 PM)(GMT+8)\n\nFor more information, click here: https://amcham-shanghai.glueup.cn/my/events/42911
LOCATION:WeWork China (Innovation Center) - 3F - Building B - Hengtai Ideal Innovation Building - No. 69 Jiuzhang Road - Wuzhong District - WeWork创新中心，江苏省苏州市吴中区九章路69号恒泰理想创新大厦B座3楼 Suzhou - Jiangsu - China
BEGIN:VALARM
TRIGGER:-PT48H
REPEAT:4
DURATION:PT30M
ACTION:DISPLAY
END:VALARM
END:VEVENT
END:VCALENDAR