BEGIN:VCALENDAR
VERSION:2.0
PRODID:GlueUp
CALSCALE:GREGORIAN
BEGIN:VTIMEZONE
TZID:UTC
BEGIN:STANDARD
DTSTART:19700101T000000
TZOFFSETFROM:+0000
TZOFFSETTO:+0000
TZNAME:UTC
END:STANDARD
END:VTIMEZONE
BEGIN:VEVENT
TZ:+00
ORGANIZER;CN=Kelly Deng:MAILTO:kelly.deng@amcham-shanghai.org
UID:42695-1776685540@https://amcham-shanghai.glueup.cn
DTSTAMP:20260420T114540Z
DTSTART:20240125T080000Z
DTEND:20240125T110000Z
SUMMARY:Supply Chain | Market Update, Sustainability Presentation & Happy Hour
DESCRIPTION:Supply Chain | Market Update, Sustainability Presentation & Happy Hour by American Chamber of Commerce in Shanghai\n\nJan 25, 2024 (4:00 PM - 7:00 PM)(GMT+8)\n\nFor more information, click here: https://amcham-shanghai.glueup.cn/my/events/42695
LOCATION:AmCham Shanghai Conference Center - 27F - Infinitus Tower -  - No.168 Hubin Road - Huangpu District - 新天地湖滨路168号无限极大厦27楼 Shanghai - China
BEGIN:VALARM
TRIGGER:-PT48H
REPEAT:4
DURATION:PT30M
ACTION:DISPLAY
END:VALARM
END:VEVENT
END:VCALENDAR