BEGIN:VCALENDAR
VERSION:2.0
PRODID:GlueUp
CALSCALE:GREGORIAN
BEGIN:VTIMEZONE
TZID:UTC
BEGIN:STANDARD
DTSTART:19700101T000000
TZOFFSETFROM:+0000
TZOFFSETTO:+0000
TZNAME:UTC
END:STANDARD
END:VTIMEZONE
BEGIN:VEVENT
TZ:+00
ORGANIZER;CN=Kelly Deng:MAILTO:kelly.deng@amcham-shanghai.org
UID:49568-1777078563@https://amcham-shanghai.glueup.cn
DTSTAMP:20260425T005603Z
DTSTART:20260509T003000Z
DTEND:20260509T080000Z
SUMMARY:[SOLD OUT] Celebrating America's 250th Birthday: 2026 Corporate Basketball Tournament
DESCRIPTION:[SOLD OUT] Celebrating America's 250th Birthday: 2026 Corporate Basketball Tournament by American Chamber of Commerce in Shanghai\n\nMay 9, 2026 (8:30 AM - 4:00 PM)(GMT+8)\n\nFor more information, click here: https://amcham-shanghai.glueup.cn/my/events/49568
LOCATION:NYU Shanghai (上海纽约大学 前滩校园） - 567 West Yangsi Road - Pudong New District - - 上海市浦东新区杨思西路567号 Shanghai - China
BEGIN:VALARM
TRIGGER:-PT48H
REPEAT:4
DURATION:PT30M
ACTION:DISPLAY
END:VALARM
END:VEVENT
END:VCALENDAR