BEGIN:VCALENDAR
VERSION:2.0
PRODID:GlueUp
CALSCALE:GREGORIAN
BEGIN:VTIMEZONE
TZID:UTC
BEGIN:STANDARD
DTSTART:19700101T000000
TZOFFSETFROM:+0000
TZOFFSETTO:+0000
TZNAME:UTC
END:STANDARD
END:VTIMEZONE
BEGIN:VEVENT
TZ:+00
ORGANIZER;CN=Katherine Zhao:MAILTO:katherine.zhao@amcham-shanghai.org
UID:30238-1777145568@https://amcham-shanghai.glueup.cn
DTSTAMP:20260425T193248Z
DTSTART:20210207T233000Z
DTEND:20210208T030000Z
SUMMARY:Nanjing Super Bowl Live Watch Brunch
DESCRIPTION:Nanjing Super Bowl Live Watch Brunch by American Chamber of Commerce in Shanghai\n\nFeb 8, 2021 (7:30 AM - 11:00 AM)(GMT+8)\n\nFor more information, click here: https://amcham-shanghai.glueup.cn/my/events/30238
LOCATION:Oasis Bar - IST Plaza - No. 132 Zhongshan Road Nanjing - Jiangsu - China
BEGIN:VALARM
TRIGGER:-PT48H
REPEAT:4
DURATION:PT30M
ACTION:DISPLAY
END:VALARM
END:VEVENT
END:VCALENDAR