BEGIN:VCALENDAR
VERSION:2.0
PRODID:GlueUp
CALSCALE:GREGORIAN
BEGIN:VTIMEZONE
TZID:UTC
BEGIN:STANDARD
DTSTART:19700101T000000
TZOFFSETFROM:+0000
TZOFFSETTO:+0000
TZNAME:UTC
END:STANDARD
END:VTIMEZONE
BEGIN:VEVENT
TZ:+00
ORGANIZER;CN=Karen QIU:MAILTO:karen.qiu@amcham-shanghai.org
UID:50209-1777078640@https://amcham-shanghai.glueup.cn
DTSTAMP:20260425T005720Z
DTSTART:20260429T093000Z
DTEND:20260429T123000Z
SUMMARY:Joint Chamber Event | How to Compete in China – Two Journeys, One Market: The Business Story of China’s Wine Elites
DESCRIPTION:Joint Chamber Event | How to Compete in China – Two Journeys, One Market: The Business Story of China’s Wine Elites by American Chamber of Commerce in Shanghai\n\nApr 29, 2026 (5:30 PM - 8:30 PM)(GMT+8)\n\nFor more information, click here: https://amcham-shanghai.glueup.cn/my/events/50209
LOCATION:The Langham Shanghai Xintiandi - The Langham Shanghai Xintiandi - No. 99 Madang Road - Huangpu District - Shanghai - 上海市黄浦区马当路99号上海新天地朗廷酒店 Shanghai - China
BEGIN:VALARM
TRIGGER:-PT48H
REPEAT:4
DURATION:PT30M
ACTION:DISPLAY
END:VALARM
END:VEVENT
END:VCALENDAR