BEGIN:VCALENDAR
VERSION:2.0
PRODID:GlueUp
CALSCALE:GREGORIAN
BEGIN:VTIMEZONE
TZID:UTC
BEGIN:STANDARD
DTSTART:19700101T000000
TZOFFSETFROM:+0000
TZOFFSETTO:+0000
TZNAME:UTC
END:STANDARD
END:VTIMEZONE
BEGIN:VEVENT
TZ:+00
ORGANIZER;CN=Stella Cai:MAILTO:stella.cai@amcham-shanghai.org
UID:32424-1777056604@https://amcham-shanghai.glueup.cn
DTSTAMP:20260424T185004Z
DTSTART:20210702T060000Z
DTEND:20210702T080000Z
SUMMARY:Hangzhou: Foreigners’ Work Permit Updates & Overseas Summer Travel Policy
DESCRIPTION:Hangzhou: Foreigners’ Work Permit Updates & Overseas Summer Travel Policy by American Chamber of Commerce in Shanghai\n\nJul 2, 2021 (2:00 PM - 4:00 PM)(GMT+8)\n\nFor more information, click here: https://amcham-shanghai.glueup.cn/my/events/32424
LOCATION:WeWork Hangzhou Yan'an Road - 延安路292号工联CC7楼 Hangzhou - Zhejiang - China
BEGIN:VALARM
TRIGGER:-PT48H
REPEAT:4
DURATION:PT30M
ACTION:DISPLAY
END:VALARM
END:VEVENT
END:VCALENDAR