BEGIN:VCALENDAR
VERSION:2.0
PRODID:GlueUp
CALSCALE:GREGORIAN
BEGIN:VTIMEZONE
TZID:UTC
BEGIN:STANDARD
DTSTART:19700101T000000
TZOFFSETFROM:+0000
TZOFFSETTO:+0000
TZNAME:UTC
END:STANDARD
END:VTIMEZONE
BEGIN:VEVENT
TZ:+00
ORGANIZER;CN=Zoe Zhang:MAILTO:zoe.zhang@amcham-shanghai.org
UID:30151-1777151845@https://amcham-shanghai.glueup.cn
DTSTAMP:20260425T211725Z
DTSTART:20210303T080000Z
DTEND:20210303T100000Z
SUMMARY:Spotlight Session: The Future of Work: Leveraging Tech to Boost Employee Wellness and Productivity
DESCRIPTION:Spotlight Session: The Future of Work: Leveraging Tech to Boost Employee Wellness and Productivity by American Chamber of Commerce in Shanghai\n\nMar 3, 2021 (4:00 PM - 6:00 PM)(GMT+8)\n\nFor more information, click here: https://amcham-shanghai.glueup.cn/my/events/30151
LOCATION:AmCham Shanghai Conference Center (Xintiandi) - 27F - Infinitus Tower -  - No.168 Hubin Road - Huangpu District - 新天地湖滨路168号无限极大厦27楼 Shanghai - China
BEGIN:VALARM
TRIGGER:-PT48H
REPEAT:4
DURATION:PT30M
ACTION:DISPLAY
END:VALARM
END:VEVENT
END:VCALENDAR