BEGIN:VCALENDAR
VERSION:2.0
PRODID:GlueUp
CALSCALE:GREGORIAN
BEGIN:VTIMEZONE
TZID:UTC
BEGIN:STANDARD
DTSTART:19700101T000000
TZOFFSETFROM:+0000
TZOFFSETTO:+0000
TZNAME:UTC
END:STANDARD
END:VTIMEZONE
BEGIN:VEVENT
TZ:+00
ORGANIZER;CN=Bing Chen:MAILTO:bing.chen@amcham-shanghai.org
UID:29856-1777151839@https://amcham-shanghai.glueup.cn
DTSTAMP:20260425T211719Z
DTSTART:20210107T040000Z
DTEND:20210107T054500Z
SUMMARY:Hospitality & Tourism | Linden Centre: A Journey of the Sustainable Tourism Development
DESCRIPTION:Hospitality & Tourism | Linden Centre: A Journey of the Sustainable Tourism Development by American Chamber of Commerce in Shanghai\n\nJan 7, 2021 (12:00 PM - 1:45 PM)(GMT+8)\n\nFor more information, click here: https://amcham-shanghai.glueup.cn/my/events/29856
LOCATION:AmCham Shanghai Conference Center (Xintiandi) - 27F - Infinitus Tower -  - No.168 Hubin Road - Huangpu District - 新天地湖滨路168号无限极大厦27楼 Shanghai - China
BEGIN:VALARM
TRIGGER:-PT48H
REPEAT:4
DURATION:PT30M
ACTION:DISPLAY
END:VALARM
END:VEVENT
END:VCALENDAR