BEGIN:VCALENDAR
VERSION:2.0
PRODID:GlueUp
CALSCALE:GREGORIAN
BEGIN:VTIMEZONE
TZID:UTC
BEGIN:STANDARD
DTSTART:19700101T000000
TZOFFSETFROM:+0000
TZOFFSETTO:+0000
TZNAME:UTC
END:STANDARD
END:VTIMEZONE
BEGIN:VEVENT
TZ:+00
ORGANIZER;CN=Stephanie Sun:MAILTO:stephanie.sun@amcham-shanghai.org
UID:29728-1777151845@https://amcham-shanghai.glueup.cn
DTSTAMP:20260425T211725Z
DTSTART:20210121T053000Z
DTEND:20210121T080000Z
SUMMARY:Fully Booked: (GM Only) In preparation for a new business year – Economy & Industrial Trend Overview & Outlook
DESCRIPTION:Fully Booked: (GM Only) In preparation for a new business year – Economy & Industrial Trend Overview & Outlook by American Chamber of Commerce in Shanghai\n\nJan 21, 2021 (1:30 PM - 4:00 PM)(GMT+8)\n\nFor more information, click here: https://amcham-shanghai.glueup.cn/my/events/29728
LOCATION:W Suzhou - 3rd floor - Saloon Room - W Hotel Suzhou (Corner of Xinggang Avenue and Suhui Road - Suzhou Industrial Park) - 苏州W酒店: 星港街和苏惠路交叉口 Suzhou - Jiangsu - China
BEGIN:VALARM
TRIGGER:-PT48H
REPEAT:4
DURATION:PT30M
ACTION:DISPLAY
END:VALARM
END:VEVENT
END:VCALENDAR