BEGIN:VCALENDAR
VERSION:2.0
PRODID:GlueUp
CALSCALE:GREGORIAN
BEGIN:VTIMEZONE
TZID:UTC
BEGIN:STANDARD
DTSTART:19700101T000000
TZOFFSETFROM:+0000
TZOFFSETTO:+0000
TZNAME:UTC
END:STANDARD
END:VTIMEZONE
BEGIN:VEVENT
TZ:+00
ORGANIZER;CN=David Ma:MAILTO:david.ma@amcham-shanghai.org
UID:29027-1777151838@https://amcham-shanghai.glueup.cn
DTSTAMP:20260425T211718Z
DTSTART:20210319T004500Z
DTEND:20210319T090000Z
SUMMARY:Training: Legal Training for Non-legal Managers: Cybersecurity Compliance and Data Protection – Foundation (Full-day) (Pre-paid)
DESCRIPTION:Training: Legal Training for Non-legal Managers: Cybersecurity Compliance and Data Protection – Foundation (Full-day) (Pre-paid) by American Chamber of Commerce in Shanghai\n\nMar 19, 2021 (8:45 AM - 5:00 PM)(GMT+8)\n\nFor more information, click here: https://amcham-shanghai.glueup.cn/my/events/29027
LOCATION:Shanghai DaWo Law Firm 上海达沃律师事务所 - Suite 20D - Crystal Century Plaza - No. 567 Weihai Road - Shanghai - 上海市威海路567号晶采世纪大厦20楼D Shanghai - China
BEGIN:VALARM
TRIGGER:-PT48H
REPEAT:4
DURATION:PT30M
ACTION:DISPLAY
END:VALARM
END:VEVENT
END:VCALENDAR