BEGIN:VCALENDAR
VERSION:2.0
PRODID:GlueUp
CALSCALE:GREGORIAN
BEGIN:VTIMEZONE
TZID:UTC
BEGIN:STANDARD
DTSTART:19700101T000000
TZOFFSETFROM:+0000
TZOFFSETTO:+0000
TZNAME:UTC
END:STANDARD
END:VTIMEZONE
BEGIN:VEVENT
TZ:+00
ORGANIZER;CN=AmCham Shanghai:MAILTO:amcham@amcham-shanghai.org
UID:28371-1777151332@https://amcham-shanghai.glueup.cn
DTSTAMP:20260425T210852Z
DTSTART:20200904T063000Z
DTEND:20200904T110000Z
SUMMARY:[Fully Booked] 2020 Suzhou New District Investment Conference & Dinner -  Integration Development of Yangtze River Delta
DESCRIPTION:[Fully Booked] 2020 Suzhou New District Investment Conference & Dinner -  Integration Development of Yangtze River Delta by American Chamber of Commerce in Shanghai\n\nSep 4, 2020 (2:30 PM - 7:00 PM)(GMT+8)\n\nFor more information, click here: https://amcham-shanghai.glueup.cn/my/events/28371
LOCATION:Grand Hyatt Shanghai - Century Avenue 88 Shanghai - China
BEGIN:VALARM
TRIGGER:-PT48H
REPEAT:4
DURATION:PT30M
ACTION:DISPLAY
END:VALARM
END:VEVENT
END:VCALENDAR