BEGIN:VCALENDAR
VERSION:2.0
PRODID:GlueUp
CALSCALE:GREGORIAN
BEGIN:VTIMEZONE
TZID:UTC
BEGIN:STANDARD
DTSTART:19700101T000000
TZOFFSETFROM:+0000
TZOFFSETTO:+0000
TZNAME:UTC
END:STANDARD
END:VTIMEZONE
BEGIN:VEVENT
TZ:+00
ORGANIZER;CN=Karen QIU:MAILTO:karen.qiu@amcham-shanghai.org
UID:49886-1777078496@https://amcham-shanghai.glueup.cn
DTSTAMP:20260425T005456Z
DTSTART:20260613T100000Z
DTEND:20260613T150000Z
SUMMARY:2026 Gala: Celebrating America’s 250th Birthday
DESCRIPTION:2026 Gala: Celebrating America’s 250th Birthday by American Chamber of Commerce in Shanghai\n\nJun 13, 2026 (6:00 PM - 11:00 PM)(GMT+8)\n\nFor more information, click here: https://amcham-shanghai.glueup.cn/my/events/49886
LOCATION:St. Regis Shanghai Jingan 上海静安瑞吉酒店 - 1008 Beijing Road West 北京西路1008号 Shanghai - China
BEGIN:VALARM
TRIGGER:-PT48H
REPEAT:4
DURATION:PT30M
ACTION:DISPLAY
END:VALARM
END:VEVENT
END:VCALENDAR