BEGIN:VCALENDAR
VERSION:2.0
PRODID:GlueUp
CALSCALE:GREGORIAN
BEGIN:VTIMEZONE
TZID:UTC
BEGIN:STANDARD
DTSTART:19700101T000000
TZOFFSETFROM:+0000
TZOFFSETTO:+0000
TZNAME:UTC
END:STANDARD
END:VTIMEZONE
BEGIN:VEVENT
TZ:+00
ORGANIZER;CN=Kelly Deng:MAILTO:kelly.deng@amcham-shanghai.org
UID:33891-1777114840@https://amcham-shanghai.glueup.cn
DTSTAMP:20260425T110040Z
DTSTART:20211026T050000Z
DTEND:20211026T110000Z
SUMMARY:2021 China Sports Forum: Emerging Areas of Growth Post-Covid
DESCRIPTION:2021 China Sports Forum: Emerging Areas of Growth Post-Covid by American Chamber of Commerce in Shanghai\n\nOct 26, 2021 (1:00 PM - 7:00 PM)(GMT+8)\n\nFor more information, click here: https://amcham-shanghai.glueup.cn/my/events/33891
LOCATION:PLANET ONE 易星球 - L1-09 - Sinar Mas Plaza - 588 Dongchangzhi Road - Hongkou District - Shanghai - 上海市虹口区东长治路588号白玉兰广场L1-09 Shanghai - China
BEGIN:VALARM
TRIGGER:-PT48H
REPEAT:4
DURATION:PT30M
ACTION:DISPLAY
END:VALARM
END:VEVENT
END:VCALENDAR