BEGIN:VCALENDAR
VERSION:2.0
PRODID:GlueUp
CALSCALE:GREGORIAN
BEGIN:VTIMEZONE
TZID:UTC
BEGIN:STANDARD
DTSTART:19700101T000000
TZOFFSETFROM:+0000
TZOFFSETTO:+0000
TZNAME:UTC
END:STANDARD
END:VTIMEZONE
BEGIN:VEVENT
TZ:+00
ORGANIZER;CN=Bing Chen:MAILTO:bing.chen@amcham-shanghai.org
UID:27579-1777050426@https://amcham-shanghai.glueup.cn
DTSTAMP:20260424T170706Z
DTSTART:20200923T003000Z
DTEND:20200923T093500Z
SUMMARY:2020 AmCham Shanghai HR Conference
DESCRIPTION:2020 AmCham Shanghai HR Conference by American Chamber of Commerce in Shanghai\n\nSep 23, 2020 (8:30 AM - 5:35 PM)(GMT+8)\n\nFor more information, click here: https://amcham-shanghai.glueup.cn/my/events/27579
LOCATION:Grand Hyatt Shanghai - 上海市浦东新区世纪大道88号金茂大厦 - Jin Mao Tower， 88 Century Avenue Shanghai - China
BEGIN:VALARM
TRIGGER:-PT48H
REPEAT:4
DURATION:PT30M
ACTION:DISPLAY
END:VALARM
END:VEVENT
END:VCALENDAR