BEGIN:VCALENDAR
VERSION:2.0
PRODID:GlueUp
CALSCALE:GREGORIAN
BEGIN:VTIMEZONE
TZID:UTC
BEGIN:STANDARD
DTSTART:19700101T000000
TZOFFSETFROM:+0000
TZOFFSETTO:+0000
TZNAME:UTC
END:STANDARD
END:VTIMEZONE
BEGIN:VEVENT
TZ:+00
ORGANIZER;CN=AmCham Shanghai:MAILTO:amcham@amcham-shanghai.org
UID:15257-1776882463@https://amcham-shanghai.glueup.cn
DTSTAMP:20260422T182743Z
DTSTART:20180622T001500Z
DTEND:20180622T053000Z
SUMMARY:2018 “Raise the Bar” Manufacturing Conference & Suzhou Municipal Government Appreciation Luncheon
DESCRIPTION:2018 “Raise the Bar” Manufacturing Conference & Suzhou Municipal Government Appreciation Luncheon by American Chamber of Commerce in Shanghai\n\nJun 22, 2018 (8:15 AM - 1:30 PM)(GMT+8)\n\nFor more information, click here: https://amcham-shanghai.glueup.cn/my/events/15257
LOCATION:Intercontinental Suzhou - 288 Wang Dun Road - Suzhou Industrial Park - Suzhou Suzhou - Jiangsu - China
BEGIN:VALARM
TRIGGER:-PT48H
REPEAT:4
DURATION:PT30M
ACTION:DISPLAY
END:VALARM
END:VEVENT
END:VCALENDAR