BEGIN:VCALENDAR
VERSION:2.0
PRODID:GlueUp
CALSCALE:GREGORIAN
BEGIN:VTIMEZONE
TZID:UTC
BEGIN:STANDARD
DTSTART:19700101T000000
TZOFFSETFROM:+0000
TZOFFSETTO:+0000
TZNAME:UTC
END:STANDARD
END:VTIMEZONE
BEGIN:VEVENT
TZ:+00
ORGANIZER;CN=AmCham Shanghai:MAILTO:amcham@amcham-shanghai.org
UID:14128-1776975497@https://amcham-shanghai.glueup.cn
DTSTAMP:20260423T201817Z
DTSTART:20180302T000000Z
DTEND:20180302T090000Z
SUMMARY:WeForShe: Beyond the Numbers
DESCRIPTION:WeForShe: Beyond the Numbers by American Chamber of Commerce in Shanghai\n\nMar 2, 2018 (8:00 AM - 5:00 PM)(GMT+8)\n\nFor more information, click here: https://amcham-shanghai.glueup.cn/my/events/14128
LOCATION:Mandarin Oriental Hotel - 111 Pudong Road South Shanghai - China
BEGIN:VALARM
TRIGGER:-PT48H
REPEAT:4
DURATION:PT30M
ACTION:DISPLAY
END:VALARM
END:VEVENT
END:VCALENDAR